BEGIN:VCALENDAR
VERSION:2.0
PRODID:-//Tukios.com/
BEGIN:VEVENT
UID:eda4d3cd-36fe-4901-99f5-e6c67246c3c9@www.mankatomortuary.com
DTSTAMP:20260422T233120Z
DTSTART:20260502T180000Z
DTEND:20260502T210000Z
SUMMARY:Visitation
DESCRIPTION:
URL:https://www.mankatomortuary.com/obituaries/alan-al-crouch
LOCATION:Mankato Mortuary 1001 N Riverfront Drive  Mankato MN 56001
GEO:44.1759358;-93.9940077
END:VEVENT
END:VCALENDAR