BEGIN:VCALENDAR
VERSION:2.0
PRODID:-//Tukios.com/
BEGIN:VEVENT
UID:ab9a5d18-1298-40e5-8662-d05f35b26fac@www.mankatomortuary.com
DTSTAMP:20260422T232625Z
DTSTART:20260502T210000Z
DTEND:20260502T220000Z
SUMMARY:Prayer Service
DESCRIPTION:
URL:https://www.mankatomortuary.com/obituaries/alan-al-crouch
LOCATION: 1001 N Riverfront Drive  Mankato MN 56001
GEO:44.1759358;-93.9940077
END:VEVENT
END:VCALENDAR