BEGIN:VCALENDAR
VERSION:2.0
PRODID:-//Tukios.com/
BEGIN:VEVENT
UID:19d19c43-68f7-4fb0-bcf9-4cedcc5bb5a9@www.mankatomortuary.com
DTSTAMP:20260423T043112Z
DTSTART:20260424T200000Z
DTEND:20260424T210000Z
SUMMARY:Memorial Mass
DESCRIPTION:
URL:https://www.mankatomortuary.com/obituaries/cyril-denn
LOCATION: 120 Church St  Saint Clair MN 56080
GEO:44.0795742;-93.8593268
END:VEVENT
END:VCALENDAR