BEGIN:VCALENDAR
VERSION:2.0
PRODID:-//Tukios.com/
BEGIN:VEVENT
UID:db1ba006-0833-475b-9935-daeef008ce10@www.mankatomortuary.com
DTSTAMP:20260423T043341Z
DTSTART:20260424T190000Z
DTEND:20260424T200000Z
SUMMARY:Visitation
DESCRIPTION:
URL:https://www.mankatomortuary.com/obituaries/cyril-denn
LOCATION: 120 Church St  Saint Clair MN 56080
GEO:44.0795742;-93.8593268
END:VEVENT
END:VCALENDAR