BEGIN:VCALENDAR
VERSION:2.0
PRODID:-//Tukios.com/
BEGIN:VEVENT
UID:a1b671ef-b494-4959-9775-d83f3e10d0f7@www.mankatomortuary.com
DTSTAMP:20260423T181719Z
DTSTART:20260424T210000Z
DTEND:20260425T000000Z
SUMMARY:Celebration of Life
DESCRIPTION:
URL:https://www.mankatomortuary.com/obituaries/daisy-fox
LOCATION:Northview – North Mankato Mortuary 2060 Commerce Drive  North 
	Mankato MN 56003
GEO:44.1794551;-94.0507839
END:VEVENT
END:VCALENDAR