BEGIN:VCALENDAR
VERSION:2.0
PRODID:-//Tukios.com/
BEGIN:VEVENT
UID:cd35b91e-9893-4150-83e7-71b7b29c1658@www.mankatomortuary.com
DTSTAMP:20260422T184132Z
DTSTART:20260501T210000Z
DTEND:20260501T230000Z
SUMMARY:Celebration of Life
DESCRIPTION:
URL:https://www.mankatomortuary.com/obituaries/david-ahl
LOCATION:Northview – North Mankato Mortuary 2060 Commerce Drive  North 
	Mankato MN 56003
GEO:44.1794551;-94.0507839
END:VEVENT
END:VCALENDAR