BEGIN:VCALENDAR
VERSION:2.0
PRODID:-//Tukios.com/
BEGIN:VEVENT
UID:5ac0f03e-7d30-48de-b3d2-be7c007f7aae@www.mankatomortuary.com
DTSTAMP:20260422T184614Z
DTSTART:20260501T223000Z
DTEND:20260501T233000Z
SUMMARY:Prayer Service
DESCRIPTION:
URL:https://www.mankatomortuary.com/obituaries/david-ahl
LOCATION:Northview – North Mankato Mortuary 2060 Commerce Drive  North 
	Mankato MN 56003
GEO:44.1794551;-94.0507839
END:VEVENT
END:VCALENDAR