BEGIN:VCALENDAR
VERSION:2.0
PRODID:-//Tukios.com/
BEGIN:VEVENT
UID:bd26687b-6570-4ef6-8379-c85ebbdcdb48@www.mankatomortuary.com
DTSTAMP:20260424T220508Z
DTSTART:20260427T210000Z
DTEND:20260428T000000Z
SUMMARY:Visitation
DESCRIPTION:
URL:https://www.mankatomortuary.com/obituaries/joseph-joe-gasner
LOCATION:Northview- North Mankato Mortuary 2060 Commerce Drive  North 
	Mankato MN 56003
GEO:44.1794551;-94.0507839
END:VEVENT
END:VCALENDAR