BEGIN:VCALENDAR
VERSION:2.0
PRODID:-//Tukios.com/
BEGIN:VEVENT
UID:d3676539-9f26-4629-b1d1-9ee6c897546f@www.mankatomortuary.com
DTSTAMP:20260424T220743Z
DTSTART:20260428T160000Z
DTEND:20260428T170000Z
SUMMARY:Funeral Service
DESCRIPTION:
URL:https://www.mankatomortuary.com/obituaries/joseph-joe-gasner
LOCATION:First Baptist Church 315 S. Payne Street  New Ulm MN 56073
GEO:44.3061175;-94.4638437
END:VEVENT
END:VCALENDAR