BEGIN:VCALENDAR
VERSION:2.0
PRODID:-//Tukios.com/
BEGIN:VEVENT
UID:6e1005ca-be10-4602-9f65-2de322e606a2@www.mankatomortuary.com
DTSTAMP:20260424T000756Z
DTSTART:20260501T160000Z
DTEND:20260501T170000Z
SUMMARY:Mass
DESCRIPTION:
URL:https://www.mankatomortuary.com/obituaries/loren-burkel
LOCATION:Holy Rosary Catholic Church 525 Grant Ave  North Mankato MN 
	56003
GEO:44.1725102;-94.0157141
END:VEVENT
END:VCALENDAR