BEGIN:VCALENDAR
VERSION:2.0
PRODID:-//Tukios.com/
BEGIN:VEVENT
UID:099ea7d3-e135-4da3-97cb-2041d680271b@www.mankatomortuary.com
DTSTAMP:20260424T001447Z
DTSTART:20260501T150000Z
DTEND:20260501T160000Z
SUMMARY:Visitation
DESCRIPTION:
URL:https://www.mankatomortuary.com/obituaries/loren-burkel
LOCATION:Holy Rosary Catholic Church 525 Grant Ave  North Mankato MN 
	56003
GEO:44.1725102;-94.0157141
END:VEVENT
END:VCALENDAR