BEGIN:VCALENDAR
VERSION:2.0
PRODID:-//Tukios.com/
BEGIN:VEVENT
UID:85e21de6-8490-414f-8010-e33820091450@www.mankatomortuary.com
DTSTAMP:20260423T234305Z
DTSTART:20260501T210000Z
DTEND:20260502T000000Z
SUMMARY:Visitation
DESCRIPTION:
URL:https://www.mankatomortuary.com/obituaries/robert-hanson
LOCATION:Mankato Mortuary 1001 N Riverfront Drive  Mankato MN 56001
GEO:44.1759358;-93.9940077
END:VEVENT
END:VCALENDAR