BEGIN:VCALENDAR
VERSION:2.0
PRODID:-//Tukios.com/
BEGIN:VEVENT
UID:9fe35bb2-7cd5-4b64-96ac-a9fe28ce5d4e@www.mankatomortuary.com
DTSTAMP:20260423T234305Z
DTSTART:20260502T160000Z
DTEND:20260502T170000Z
SUMMARY:Memorial Service
DESCRIPTION:
URL:https://www.mankatomortuary.com/obituaries/robert-hanson
LOCATION:Highland Chapel 329 Ellis Avenue  Mankato MN 56001
GEO:44.1505747;-93.9990759
END:VEVENT
END:VCALENDAR