BEGIN:VCALENDAR
VERSION:2.0
PRODID:-//Tukios.com/
BEGIN:VEVENT
UID:db5cff18-ab31-4436-b0dd-497c02330b7f@www.mankatomortuary.com
DTSTAMP:20260419T223736Z
DTSTART:20260424T160000Z
DTEND:20260424T170000Z
SUMMARY:Mass
DESCRIPTION:
URL:https://www.mankatomortuary.com/obituaries/thomas-tom-heminover
LOCATION: 525 Grant Ave  North Mankato MN 56003
GEO:44.1725102;-94.0157141
END:VEVENT
END:VCALENDAR