BEGIN:VCALENDAR
VERSION:2.0
PRODID:-//Tukios.com/
BEGIN:VEVENT
UID:87bb14b7-1c53-489b-adc9-17103a93119d@www.mankatomortuary.com
DTSTAMP:20260423T093816Z
DTSTART:20260424T150000Z
DTEND:20260424T160000Z
SUMMARY:Visitation
DESCRIPTION:
URL:https://www.mankatomortuary.com/obituaries/thomas-tom-heminover
LOCATION:Holy Rosary Catholic Church 525 Grant Ave  North Mankato MN 
	56003
GEO:44.1725102;-94.0157141
END:VEVENT
END:VCALENDAR